BEGIN:VCALENDAR
VERSION:2.0
PRODID:-//The James Joyce Centre - ECPv4.1.1.1//NONSGML v1.0//EN
CALSCALE:GREGORIAN
METHOD:PUBLISH
X-WR-CALNAME:The James Joyce Centre
X-ORIGINAL-URL:http://jamesjoyce.ie
X-WR-CALDESC:Events for The James Joyce Centre
BEGIN:VEVENT
DTSTART;TZID=UTC+1:20171028T140000
DTEND;TZID=UTC+1:20171028T153000
DTSTAMP:20171026T184905
CREATED:20170823T143523
LAST-MODIFIED:20170823T143524
UID:19233-1509199200-1509204600@jamesjoyce.ie
SUMMARY:Dubliners Tour
DESCRIPTION:Joyce once referred to Dublin as the ‘centre of paralysis’\, a city that he felt was backward and repressive in contrast to the modern capitals of Europe. This idea found its expression in Dubliners\, a short story collection that illustrates the effects of this restrictive atmosphere on the city’s population. Join our guide on a walk that visits some of the key locations from both the collection and the author’s life\, discussing all the while Joyce’s critical portrayal of the social\, religious and political landscape of his home town. This tour also gives some insight into the publication history of the collection\, itself a story that creates a sense of Joyce’s artistic mission and his controversial approach to writing about Dublin. This tour ends at O'Connell Bridge.
URL:http://jamesjoyce.ie/event/dubliners-tour-64/
LOCATION:35 North Great George's Street\, Dublin 1\, Ireland
GEO:53.3542244;-6.2603545
X-APPLE-STRUCTURED-LOCATION;VALUE=URI;X-ADDRESS=35 North Great George's Street Dublin 1 Ireland;X-APPLE-RADIUS=500;X-TITLE=35 North Great George's Street:geo:-6.2603545,53.3542244
CATEGORIES:Event,Tours
ATTACH;FMTTYPE=image/png:http://jamesjoyce.ie/wp-content/uploads/2016/02/DUBLINERS-ICON.png
ORGANIZER;CN="James%20Joyce%20Centre":MAILTO:info@jamesjoyce.ie
END:VEVENT
BEGIN:VEVENT
DTSTART;TZID=UTC+1:20171101T183000
DTEND;TZID=UTC+1:20171101T200000
DTSTAMP:20171026T184905
CREATED:20170922T120222
LAST-MODIFIED:20171024T115732
UID:19613-1509561000-1509566400@jamesjoyce.ie
SUMMARY:'The Confirmation Suit' by Brendan Behan - Performed by Gary Cooke\, Directed by Peter Sheridan
DESCRIPTION:The James Joyce Centre are delighted to be hosting a performance of Brendan Behan's 'The Confirmation Suit' on 1 November. This acclaimed show star's Gary Cooke as the young Brendan Behan and is directed by Peter Sheridan. After the performance there will be a short Q&A with the director.\n\nBrendan Behan is twelve years old and about to make his confirmation. It is a coming of age moment for all Catholic boys\, full of excitement and promise. That’s how it is for Brendan until he learns that his suit is to be made by an elderly seamstress\, Miss McCann\, who lives upstairs in their tenement house. \n\nMiss McCann specialises in making shrouds for the dead. As Brendan’s father Stephen remarks\,”people are only dying to get into one of her creations.” It is not a good omen. Brendan is terrified that his suit will be anything but fashionable and he lives in dread of what he may be forced to wear on his big day.\n\nAs the story unfolds\, the young Brendan becomes more and more agitated. In the end we know that something has to give. The question is whether Brendan will hold it all together or implode. \n\nWritten in 1962\, just two short years before Behan's death\, the Confirmation Suit is filled with humour\, insight and pathos. It is a story that still resonates today\, more than fifty years after its composition.
URL:http://jamesjoyce.ie/event/the-confirmation-suit-by-brendan-behan-performed-by-gary-cooke-directed-by-peter-sheridan/
LOCATION:35 North Great George's Street\, Dublin 1\, Ireland
GEO:53.3542244;-6.2603545
X-APPLE-STRUCTURED-LOCATION;VALUE=URI;X-ADDRESS=35 North Great George's Street Dublin 1 Ireland;X-APPLE-RADIUS=500;X-TITLE=35 North Great George's Street:geo:-6.2603545,53.3542244
CATEGORIES:Event
ATTACH;FMTTYPE=image/jpeg:http://jamesjoyce.ie/wp-content/uploads/2017/09/IMG_0064-1.jpg
ORGANIZER;CN="James%20Joyce%20Centre":MAILTO:info@jamesjoyce.ie
END:VEVENT
BEGIN:VEVENT
DTSTART;TZID=UTC+1:20171102T184500
DTEND;TZID=UTC+1:20171102T220000
DTSTAMP:20171026T184905
CREATED:20170922T122223
LAST-MODIFIED:20171024T113342
UID:19560-1509648300-1509660000@jamesjoyce.ie
SUMMARY:FEAST Presents Tasting Joyce
DESCRIPTION:An 8 Course ‘Tasting’ Menu\nPresented by \nJoin FEAST at the James Joyce Centre for a journey through the tastes and smells of Joyce’s Dublin. Accessing Joyce’s writing through the food and scents that frame them this 8 course ‘tasting’ menu will provide a range of food encounters that will reflect and unravel ideas in Joyce’s work.\n\nThe evening will include readings\, artworks by Nuala Clooney and Kaye Winwood and a miscellany of key foods and ingredients referenced by Joyce.\n\nEvening curated by Elisa Oliver in collaboration with the James Joyce Centre Dublin and Irish Food Trail.\n\nThe menu caters for vegetarians but sadly other specific dietary requirements cannot be accommodated.\n\nFEAST is a series of online publications that explore our relationship with food as a social event\, a marker of identity\, a product of history and a commodity for trade. Eclectic and scatological in approach FEAST works closely with writers\, artists\, curators and chefs to reflect and comment on encounters and debates between the culinary\, literary and visual arts. Placing a lens on the varied operation of food within our everyday FEAST further touches on wider cultural discourses around the body\, sexuality\, consumption\, class and gender. FEAST is co edited by Elisa Oliver and Laura Mansfield\n\nMore information from www.feastjournal.co.uk\n\nFeast is supported by the Liverpool Ireland Cultural Corridor\, an initiative of Bluecoat and Liverpool City Council.
URL:http://jamesjoyce.ie/event/feast-presents-tasting-joyce/
LOCATION:35 North Great George's Street\, Dublin 1\, Ireland
GEO:53.3542244;-6.2603545
X-APPLE-STRUCTURED-LOCATION;VALUE=URI;X-ADDRESS=35 North Great George's Street Dublin 1 Ireland;X-APPLE-RADIUS=500;X-TITLE=35 North Great George's Street:geo:-6.2603545,53.3542244
CATEGORIES:Event
ATTACH;FMTTYPE=image/png:http://jamesjoyce.ie/wp-content/uploads/2017/09/Tasting-Joyce-Graphic.png
ORGANIZER;CN="James%20Joyce%20Centre":MAILTO:info@jamesjoyce.ie
END:VEVENT
BEGIN:VEVENT
DTSTART;TZID=UTC+1:20171104T140000
DTEND;TZID=UTC+1:20171104T153000
DTSTAMP:20171026T184905
CREATED:20170823T143531
LAST-MODIFIED:20170823T143532
UID:19234-1509804000-1509809400@jamesjoyce.ie
SUMMARY:Introducing Joyce's Dublin Tour
DESCRIPTION:Though Joyce lived most of his life outside of Ireland\, Dublin would provide the backdrop for virtually all of his work. On a stroll around the north inner city\, our guide will explain the real-life inspiration behind some of Joyce’s most celebrated writing and will show just how central the streetscape of the ‘Hibernian metropolis’ is to the author’s life and art. The tour visits stops such as Joyce’s alma mater\, Belvedere College; Hardwicke Street\, the setting of the short story ‘The Boarding House'; The Gresham Hotel\, the setting of the final and most memorable scene of the short story ‘The Dead'; and the James Joyce Statue on North Earl Street\, affectionately known as the ‘Prick with the Stick’. The tour also includes a visit to the site of one of the most famous addresses in English literature\, No. 7 Eccles Street\, and retraces the steps of Leopold Bloom’s celebrated journey to buy a pork kidney in the fourth episode of Ulysses. This tour ends on O'Connell Street.
URL:http://jamesjoyce.ie/event/introducing-joyces-dublin-tour-31/
LOCATION:35 North Great George's Street\, Dublin 1\, Ireland
GEO:53.3542244;-6.2603545
X-APPLE-STRUCTURED-LOCATION;VALUE=URI;X-ADDRESS=35 North Great George's Street Dublin 1 Ireland;X-APPLE-RADIUS=500;X-TITLE=35 North Great George's Street:geo:-6.2603545,53.3542244
CATEGORIES:Event,Tours
ATTACH;FMTTYPE=image/png:http://jamesjoyce.ie/wp-content/uploads/2017/03/Introducing-Joyces-Dublin.png
ORGANIZER;CN="James%20Joyce%20Centre":MAILTO:info@jamesjoyce.ie
END:VEVENT
BEGIN:VEVENT
DTSTART;TZID=UTC+1:20171106T183000
DTEND;TZID=UTC+1:20171106T193000
DTSTAMP:20171026T184905
CREATED:20170906T104055
LAST-MODIFIED:20171012T133124
UID:19160-1509993000-1509996600@jamesjoyce.ie
SUMMARY:Trevor White - 'James Joyce & the Little Lord Mayor (Alfie Byrne)'
DESCRIPTION:We're delighted that the second lecture in our 2017 Autumn/Winter Series will see Trevor White discuss the many significant links between James Joyce and the most popular Dublin-born politician of the 20th Century\, Alfie Byrne\, on 6 November at 6:30pm.\n\nPlaces are free but limited! Book below or call us on 01 878 8547 to reserve your place.
URL:http://jamesjoyce.ie/event/trevor-white-james-joyce-the-little-lord-mayor-alfie-byrne/
LOCATION:35 North Great George's Street\, Dublin 1\, Ireland
GEO:53.3542244;-6.2603545
X-APPLE-STRUCTURED-LOCATION;VALUE=URI;X-ADDRESS=35 North Great George's Street Dublin 1 Ireland;X-APPLE-RADIUS=500;X-TITLE=35 North Great George's Street:geo:-6.2603545,53.3542244
CATEGORIES:Event,Lectures
ATTACH;FMTTYPE=image/png:http://jamesjoyce.ie/wp-content/uploads/2017/08/trevor-white.png
ORGANIZER;CN="James%20Joyce%20Centre":MAILTO:info@jamesjoyce.ie
END:VEVENT
END:VCALENDAR